BEGIN:VCALENDAR
VERSION:2.0
PRODID:-//Stadtteilhomepage Essen-Burgaltendorf//NONSGML kigkonsult.se iCalcreator 2.41.92//
CALSCALE:GREGORIAN
METHOD:PUBLISH
UID:62353631-3461-4833-a265-343230373964
X-WR-CALNAME:iCagenda
X-WR-CALDESC:Event Management Extension for Joomla!
X-WR-RELCALID:3E26604A-50F4-4449-8B3E-E4F4932D05B5
X-WR-TIMEZONE:UTC
BEGIN:VTIMEZONE
TZID:UTC
END:VTIMEZONE
BEGIN:VEVENT
UID:62366639-3438-4637-a231-353836363931
DTSTAMP:20260425T135708Z
CATEGORIES:Veranstaltungen in Burgaltendorf
CLASS:PUBLIC
DESCRIPTION;ALTREP="CID:<FFFF__=0ABBE548DFE235B58f9e8a93d@coffeebean.com>":
 Ein Frühling-Familien-Tag an der Burg: Unter dem Motto „Matsch mit!“ lädt 
 der Heimat- und Burgverein Burgaltendorf (HBV) am Samstag\, dem 25. April 
 2026 zum Burgaltendorfer „Nature Day“ an der Burg ein.\nAlles dreht sich u
 m die Natur im Frühling – speziell für Familien mit Kindern gibt es viel z
 um Anschauen\, Kennenlernen und vor allem gemeinsamen Basteln: Es können I
 nsektenhotels zusammengebaut\, Blumensaat-Bomben geknetet und Blumentöpfe 
 bemalt und bunt bepflanzt werden. Beim Basteln und Pflanzen geben die HBV-
 Handwerkergruppe „Die 9:35er“\, die Burgfrauen und der Förderverein der Gr
 undschule Burgaltendorf den Kindern praktische Unterstützung. Das Werkzeug
  dazu stellt der Heimat- und Burgverein zur Verfügung. \nEs gibt zwei Alpa
 kas zu bewundern und kleine Frettchen zu sehen – und auch ein echter Waldk
 auz sitzt irgendwo wachsam herum. Spannendes über die heimische Tierwelt u
 nd Natur erzählen und zeigen zwei Jäger der Waldschule Essen mit ihrem Aus
 stellungswagen. Bei einer Imkerin kann man selbst Kerzen ziehen und Honig 
 kaufen. Der Bauer Schulte-Oversohl ist auch dabei. Im Burgturm werden im B
 ilderbuchkino spannende Geschichten von Tieren erzählt.\nFür das leibliche
  Wohl gibt es Getränke\, Grillwurst und Pommes\, Waffeln und Crepes – und 
 Popcorn.\nUnd natürlich ermöglichen die freundlichen Burgwächter des HBV w
 ie an allen Wochenenden und Feiertagen der Saison die kostenlose Besichtig
 ung des Burgturms.\nDer Nature Day am 25.04.2026 an der Burg dauert von 11
  bis 18 Uhr (Anschrift: Burgstr. 2\, 45289 Essen-Burgaltendorf).
DTSTART:20260425T000000Z
DTEND:20260425T000000Z
GEO:00;0
LOCATION:
ORGANIZER:
SEQUENCE:1
SUMMARY:Nature Day - Umwelt- und Naturtag für Familien
TRANSP:OPAQUE
URL:https://burgaltendorf.de/index.php/component/icagenda/nature-day-umwelt
 -und-naturtag-fuer-familien/2026-04-25-00-00
END:VEVENT
END:VCALENDAR
